BEGIN:VCALENDAR
VERSION:2.0
PRODID:-//DS à la carte - ECPv6.1.3//NONSGML v1.0//EN
CALSCALE:GREGORIAN
METHOD:PUBLISH
X-ORIGINAL-URL:https://www.ds-alacarte.com
X-WR-CALDESC:évènements pour DS à la carte
REFRESH-INTERVAL;VALUE=DURATION:PT1H
X-Robots-Tag:noindex
X-PUBLISHED-TTL:PT1H
BEGIN:VTIMEZONE
TZID:Europe/Paris
BEGIN:DAYLIGHT
TZOFFSETFROM:+0100
TZOFFSETTO:+0200
TZNAME:CEST
DTSTART:20250330T010000
END:DAYLIGHT
BEGIN:STANDARD
TZOFFSETFROM:+0200
TZOFFSETTO:+0100
TZNAME:CET
DTSTART:20251026T010000
END:STANDARD
END:VTIMEZONE
BEGIN:VEVENT
DTSTART;TZID=Europe/Paris:20250518T093000
DTEND;TZID=Europe/Paris:20250518T163000
DTSTAMP:20260423T192320
CREATED:20250307T101742Z
LAST-MODIFIED:20250415T172450Z
UID:4046-1747560600-1747585800@www.ds-alacarte.com
SUMMARY:Balade insolite à vélo" : Sur la piste d'Angoulins entre fer et mer"
DESCRIPTION:Balade inédite agrémentée d’une pause conviviale dans un lieu surprise du parcours (Venir avec son pique-nique – apéritif offert).\n\nPartez sur les traces du chemin de fer à La Rochelle\, destination le village pittoresque d’Angoulins-sur-mer !\n\nEntre mer et marais\, les paysages de la Vélodyssée vous entraînent au détour des sentiers dans une formidable aventure. \n\n\nAux côtés de Diane\, votre capitaine et deux acteurs vélo de l’agglomération\, les pistes vous dévoileront leur visage le plus intime et vous mèneront tout droit à la rencontre de cette petite perle maritime qui a gardé son âme d’antan ! \nDurée approximative : 7h\, dont environ 4h30 de balade à vélo.  \nLocation de vélos possible sur place \nAttention : Places limitées ! \nEvénement organisé dans le cadre de « Mai à vélo » avec La Rochelle Agglomération et CDC17  \n\nRÉSERVER
URL:https://www.ds-alacarte.com/calendrier/balade-insolite-speciale-mai-a-velo-sur-la-piste-dangoulins-entre-fer-et-mer/
ATTACH;FMTTYPE=image/png:https://www.ds-alacarte.com/wp-content/uploads/2025/03/visuel-Angoulins-2025-rectangle.png
END:VEVENT
END:VCALENDAR