BEGIN:VCALENDAR
VERSION:2.0
PRODID:-//DS à la carte - ECPv6.1.3//NONSGML v1.0//EN
CALSCALE:GREGORIAN
METHOD:PUBLISH
X-WR-CALNAME:DS à la carte
X-ORIGINAL-URL:https://www.ds-alacarte.com
X-WR-CALDESC:évènements pour DS à la carte
REFRESH-INTERVAL;VALUE=DURATION:PT1H
X-Robots-Tag:noindex
X-PUBLISHED-TTL:PT1H
BEGIN:VTIMEZONE
TZID:Europe/Paris
BEGIN:DAYLIGHT
TZOFFSETFROM:+0100
TZOFFSETTO:+0200
TZNAME:CEST
DTSTART:20250330T010000
END:DAYLIGHT
BEGIN:STANDARD
TZOFFSETFROM:+0200
TZOFFSETTO:+0100
TZNAME:CET
DTSTART:20251026T010000
END:STANDARD
END:VTIMEZONE
BEGIN:VEVENT
DTSTART;TZID=Europe/Paris:20250420T143000
DTEND;TZID=Europe/Paris:20250420T163000
DTSTAMP:20260424T232303
CREATED:20250228T133939Z
LAST-MODIFIED:20250228T133956Z
UID:4033-1745159400-1745166600@www.ds-alacarte.com
SUMMARY:Les grandes demeures rochelaises
DESCRIPTION:Des ducs d’Aquitaine aux grandes fortunes de La Rochelle\, découvrez l’incroyable destinée de ces trésors d’architecture qui captent tous les regards dans la ville ! \n\n\n\n\n\n\n\nVisite extérieure des grandes maisons d’histoire du centre-ville de La Rochelle. \nElles habillent de leur magnifique robe de pierre le cœur de la cité océane. Maison de marchand\, de pouvoir ou d’armateur\, les demeures rochelaises captent tous les regards et forment un harmonieux kaléidoscope de styles dans la ville. \nDes ducs d’Aquitaine aux grandes fortunes de La Rochelle\, revivez aux côtés de Diane\, votre capitaine l’incroyable destinée de ces ambassadrices d’exception. Gardiennes des souvenirs les plus précieux de leurs propriétaires\, ces trésors d’architecture\, vous dévoileront leur identité et les souvenirs des grandes familles qui y ont habité. \n\nVisite insolite\nHistoire des grandes maisons de La Rochelle et de leurs propriétaires\nBalade immersive et ludique\n\n\n\n\n\n\n\n\n\n\n\n\n\nRÉSERVER
URL:https://www.ds-alacarte.com/calendrier/les-grandes-demeures-rochelaises-20/
ATTACH;FMTTYPE=image/jpeg:https://www.ds-alacarte.com/wp-content/uploads/2024/07/Grandes-demeures-rochelaises.jpg
END:VEVENT
END:VCALENDAR